Workbook

Sheet Analisis
C1: AVANCE EN LA EJECUCIÓN DE ACTIVIDADES DEL PLAN ANUAL DE AUDITORÍA
C3: =F5 -> Auditorias Internas | F3: ITEM | G3: PLANEADAS | J3: EJECUTADAS | K3: PORCENTAJE | N3: Acciones Propuestas | O3: Fecha
G4: I-Semestre | H4: II-Semestre | I4: Total | K4: I-Semestre | L4: II-Semestre | M4: Total
B5: =F8 -> Otras Actividades | D5: =F6 -> Informes de Ley | F5: Auditorias Internas | G5: =COUNTIF('Plan Anual de Auditoria'!H17:L35,"X") -> 7 | H5: =COUNTIF('Plan Anual de Auditoria'!M17:R35,"X") -> 11 | I5: =G5+H5 -> 18 | J5: =SUM('Plan Anual de Auditoria'!S17:S35) -> 0 | K5: =IFERROR(J5/G5,0) -> 0 | L5: =IFERROR(J5/H5,0) -> 0 | M5: 1
F6: Informes de Ley | G6: =COUNTIF('Plan Anual de Auditoria'!G45:L63,"X") -> 23 | H6: =COUNTIF('Plan Anual de Auditoria'!M45:R63,"X") -> 24 | I6: =G6+H6 -> 47 | J6: =SUM('Plan Anual de Auditoria'!S45:S63) -> 8 | K6: =IFERROR(J6/G6,0) -> 0.34782609 | L6: =IFERROR(#REF!/H6,0) -> 0 | M6: 1
F7: Otros Informes | G7: =COUNTIF('Plan Anual de Auditoria'!G65:L75,"X") -> 14 | H7: =COUNTIF('Plan Anual de Auditoria'!M65:R75,"X") -> 18 | I7: =G7+H7 -> 32 | J7: =SUM('Plan Anual de Auditoria'!S65:S75) -> 3 | K7: =IFERROR(J7/G7,0) -> 0.21428571 | L7: =IFERROR(#REF!/H7,0) -> 0 | M7: 1
F8: Otras Actividades | G8: =COUNTIF('Plan Anual de Auditoria'!G81:L86,"X") -> 14 | H8: =COUNTIF('Plan Anual de Auditoria'!M81:R86,"X") -> 15 | I8: =G8+H8 -> 29 | J8: =SUM('Plan Anual de Auditoria'!S81:S86) -> 3 | K8: =IFERROR(J8/G8,0) -> 0.21428571 | L8: =IFERROR(#REF!/H8,0) -> 0 | M8: 1
C9: =F7 -> Otros Informes
F10: TOTAL | G10: =SUM(G5:G8) -> 58 | H10: =SUM(H5:H8) -> 68 | I10: =SUM(I5:I8) -> 126 | J10: =SUM(J5:J8) -> 14 | K10: =IFERROR(J10/G10,0) -> 0.24137931 | L10: =IFERROR(#REF!/H10,0) -> 0
J11: =J10/I10 -> 0.11111111

Sheet Plan Anual de Auditoria
D2: PROCESO DE EVALUACIÓN, CONTROL Y SEGUIMIENTO INSTITUCIONAL
D3: PLAN ANUAL DE AUDITORÍA
D4: Código: FO-ECS-01 | F4: Versión: 04 | K4: Fecha de aprobación: 28/04/2022 | T4: Página: 1 de 1
B6: Objetivo(s): | C6: Establecer de manera ordenada las actividades de auditoría, así como las relacionadas con los roles e informes de competencia de la oficina, que adelantará el Asesor de Control Interno para agregar valor y mejorar las operaciones de la entidad; ayudando a cumplir sus objetivos mediante la aplicación de un enfoque sistemático y disciplinado para evaluar la gestión de riesgos y controles.
B7: Alcance: | C7: Aplica para las auditoráis de segunda línea, tercera línea, informes de ley a cargo de la oficina de Control interno, otros informes, actividades y auditorías de tercera parte.
B8: Criterios: | C8: Para la realización y aprobación del programa anual de auditoría, se tomarón los siguientes criterios: Auditorías de Gestión Control Interno: Decreto 1499 de 2017 - Modelo Estándar de Control Interno, Decreto 648 del 2017, Plan Anticorrupción y Atención al Ciudadano, Control Interno Contable, Decreto 1072 de 2015, Seguridad de la Información, Gestión Documental. Auditorías de Calidad y Ambiental: NTC ISO 9001:2015, NTC ISO 14001:2015, NTC 5555:2011 Normatividad Legal vigente (Interna y Externa), Manual de Calidad, Manual del Sistema de Gestión Ambiental, y la documentación establecida en el Sistema Integrado de Gestión.
B9: Unidad Responsable: | C9: Control Interno de Gestión / Oficina Asesora de Planeación
B10: Método: | C10: Para auditorías de 3ra Línea La Oficina de Control Interno tuvo en cuenta la directricez y recomedaciones de la Guia de auditoría basada en riesgos para entidades publicas que establece las variables y los criterios más importantes y que tienen mayor impacto para tomar una decisión adecuada en cuanto al ordenamiento y priorización de los procesos a auditar, una vez definidas las variables y los criterios se ponderan asignándoles un peso de acuerdo a su importancia basados en el estudio realizado por la Jefe de la Oficina de Control Interno para realizar el programa se utiliza la información histórica de cada proceso. A continuación se indican los pasos que se requieren para ordenar y priorizar los procesos a auditar. Definición de criterios utilizados: - Riesgo Inherente - Tiempo transcurrido desde la última auditoría: - Temas de interés de la Alta Dirección (Criterios) Para auditorías de 2da Línea Las auditorias se realizarán de manera presencial con y sin interacción humana; las actas de reunión, informes de auditoria, cartas de representación y demas registros se enviaran de manera digital para sus respectivas firmas, los registros de asistencia serán en medio físico.
B11: Recursos: | C11: Financieros: Presupuesto asignado por la Universidad para atender los requerimientos del plan anual de auditoría. | F11: Humanos: Profesionales de Control Interno de Gestión, Calidad, Ambiental y Auditores Internos. | R11: Tecnológicos: Equipos de computo, sistemas de información, sistemas de redes y correo electrónico Institucional.
B12: Riesgos y Oportunidades: | C12: Incumplimiento / aplazamiento del plan anual de auditoría por labores internas. | J12: Acciones asociadas al tratamiento: Seguimiento permanente del plan.
B14: Auditorias Internas
B15: Título de la Auditoría 3ra Línea | D15: Aplica a: | E15: Rol Asociado | F15: Responsable | G15: Ene | H15: Feb | I15: Mar | J15: Abr | K15: May | L15: Jun | M15: Jul | N15: Ago | O15: Sept | P15: Oct | Q15: Nov | R15: Dic | S15: Ejecutado | T15: Porcentaje Cumplimiento | U15: Asignado a: | V15: Evidencia
B16: Investigación (Apoyos Económicos - OIRI) | D16: Proceso Misional | E16: Evaluación y seguimiento | F16: Profesional OCIG | H16: X | S16: 1 | T16: =IF(S16>COUNTIF(G16:R16,"X"),100%,IFERROR(S16/(COUNTIF(G16:R16,"X")),"")) -> 1 | U16: Profesional de apoyo, certificado en auditoría interna | V16: Se realizó la auditoría del proceso de Investigación del 11 al 25 de febrero, cuyo informe fue enviado oficialmente al proceso el 27 de febrero de 2025 y se publicó en el enlace web https://tramites1.suit.gov.co/racionalizacion-web/faces/home.jsf?_adf.ctrl-state=xsy138auw_3
B17: Comunicación Institucional | D17: Proceso Estratégico | E17: Evaluación y seguimiento | F17: Profesional OCIG | I17: X | T17: =IF(S17>COUNTIF(G17:R17,"X"),100%,IFERROR(S17/(COUNTIF(G17:R17,"X")),"")) -> 0 | U17: Profesional de apoyo, certificado en auditoría interna | X17: SONIA
B18: Direccionamiento Estratégico | D18: Proceso Estratégico | E18: Evaluación y seguimiento | F18: Profesional OCIG | J18: X | T18: =IF(S18>COUNTIF(G18:R18,"X"),100%,IFERROR(S18/(COUNTIF(G18:R18,"X")),"")) -> 0 | U18: Profesional de apoyo, certificado en auditoría interna | X18: KEILA
B19: Gestión de apoyo a la Academia - Laboratorios y Centro Clínico Veterinario | D19: Proceso de Apoyo | E19: Evaluación y seguimiento | F19: Profesional OCIG | K19: X | T19: =IF(S19>COUNTIF(G19:R19,"X"),100%,IFERROR(S19/(COUNTIF(G19:R19,"X")),"")) -> 0 | U19: Profesional de apoyo, certificado en auditoría interna | X19: DERLY
B20: Gestión de TIC | D20: Proceso de Apoyo | E20: Evaluación y seguimiento | F20: Profesional OCIG | L20: X | T20: =IF(S20>COUNTIF(G20:R20,"X"),100%,IFERROR(S20/(COUNTIF(G20:R20,"X")),"")) -> 0 | U20: Profesional de apoyo, certificado en auditoría interna | X20: NUEVO
B21: Gestión Documental | D21: Proceso de Apoyo | E21: Evaluación y seguimiento | F21: Profesional OCIG | M21: X | T21: =IF(S21>COUNTIF(G21:R21,"X"),100%,IFERROR(S21/(COUNTIF(G21:R21,"X")),"")) -> 0 | U21: Profesional de apoyo, certificado en auditoría interna | X21: SONIA
B22: Docencia | D22: Proceso Misional | E22: Evaluación y seguimiento | F22: Profesional OCIG | N22: X | T22: =IF(S22>COUNTIF(G22:R22,"X"),100%,IFERROR(S22/(COUNTIF(G22:R22,"X")),"")) -> 0 | U22: Profesional de apoyo, certificado en auditoría interna | X22: KEILA- NUEVO
B23: Gestión del Talento Humano -SST / (Contratación Hora Catedra) | D23: Proceso de Apoyo | E23: Evaluación y seguimiento | F23: Profesional OCIG | P23: X | T23: =IF(S23>COUNTIF(G23:R23,"X"),100%,IFERROR(S23/(COUNTIF(G23:R23,"X")),"")) -> 0 | U23: Profesional de apoyo, certificado en auditoría interna | X23: OSCAR
B24: Gestión de la Calidad | D24: Proceso Estratégico | E24: Evaluación y seguimiento | F24: Profesional OCIG | Q24: X | T24: =IF(S24>COUNTIF(G24:R24,"X"),100%,IFERROR(S24/(COUNTIF(G24:R24,"X")),"")) -> 0 | U24: Profesional de apoyo, certificado en auditoría interna | X24: DERLY
B25: Título de la Auditoría 2da Línea | D25: Aplica a: | E25: Rol Asociado | F25: Responsable | G25: Ene | H25: Feb | I25: Mar | J25: Abr | K25: May | L25: Jun | M25: Jul | N25: Ago | O25: Sept | P25: Oct | Q25: Nov | R25: Dic | S25: Ejecutado | T25: Porcentaje Cumplimiento | U25: Asignado a: | V25: Evidencia
B26: Gestión de la Calidad y Direccionamiento Estratégico | D26: Proceso Estratégico | E26: Conformidad con los requisitos normativos | F26: Profesional del Centro de Idiomas | H26: X | T26: =IF(S26>COUNTIF(G26:R26,"X"),100%,IFERROR(S26/(COUNTIF(G26:R26,"X")),"")) -> 0 | U26: Profesional de apoyo, certificado en auditoría interna
B27: Investigación | D27: Proceso Misional | E27: Conformidad con los requisitos normativos | F27: Profesional de Planeación | K27: X | T27: =IF(S27>COUNTIF(G27:R27,"X"),100%,IFERROR(S27/(COUNTIF(G27:R27,"X")),"")) -> 0 | U27: Profesional de apoyo, certificado en auditoría interna
B28: Docencia - Facultad de Ciencias Humanas y de la Educación | D28: Proceso Misional | E28: Conformidad con los requisitos normativos | F28: Profesional de Planeación | L28: X | T28: =IF(S28>COUNTIF(G28:R28,"X"),100%,IFERROR(S28/(COUNTIF(G28:R28,"X")),"")) -> 0 | U28: Profesional de apoyo, certificado en auditoría interna
B29: Docencia - Centro de Idiomas | D29: Proceso Misional | E29: Conformidad con los requisitos normativos | F29: Profesional Externo | M29: X | T29: =IF(S29>COUNTIF(G29:R29,"X"),100%,IFERROR(S29/(COUNTIF(G29:R29,"X")),"")) -> 0 | U29: Profesional de apoyo, certificado en auditoría interna
B30: Autoevaluación Institucional | D30: Proceso de Evaluación | E30: Conformidad con los requisitos normativos | F30: Profesional de Planeación | M30: X | T30: =IF(S30>COUNTIF(G30:R30,"X"),100%,IFERROR(S30/(COUNTIF(G30:R30,"X")),"")) -> 0 | U30: Profesional de apoyo, certificado en auditoría interna
B31: Comunicación Institucional | D31: Proceso de Apoyo | E31: Conformidad con los requisitos normativos | F31: Profesional de Planeación | M31: X | T31: =IF(S31>COUNTIF(G31:R31,"X"),100%,IFERROR(S31/(COUNTIF(G31:R31,"X")),"")) -> 0 | U31: Profesional de apoyo, certificado en auditoría interna
B32: Gestión Documental | D32: Proceso de Apoyo | E32: Conformidad con los requisitos normativos | F32: Profesional de Planeación | M32: X | T32: =IF(S32>COUNTIF(G32:R32,"X"),100%,IFERROR(S32/(COUNTIF(G32:R32,"X")),"")) -> 0 | U32: Profesional de apoyo, certificado en auditoría interna
B33: Gestión de Bienes y Servicios - Almacén | D33: Proceso de Apoyo | E33: Conformidad con los requisitos normativos | F33: Profesional de Planeación | O33: X | T33: =IF(S33>COUNTIF(G33:R33,"X"),100%,IFERROR(S33/(COUNTIF(G33:R33,"X")),"")) -> 0 | U33: Profesional de apoyo, certificado en auditoría interna
B34: Centro de Calidad de Aguas | D34: Proceso de Apoyo | E34: Conformidad con los requisitos normativos | F34: Profesional Externo | O34: X | U34: Profesional de apoyo, certificado en auditoría interna
B35: Gestión de apoyo a la Academia - Laboratorios y Centro Clínico Veterinario | D35: Proceso de Apoyo | E35: Conformidad con los requisitos normativos | F35: Profesional de Planeación | P35: X | T35: =IF(S35>COUNTIF(G35:R35,"X"),100%,IFERROR(S35/(COUNTIF(G35:R35,"X")),"")) -> 0 | U35: Profesional de apoyo, certificado en auditoría interna
B36: Título de la Auditoría de Tercera Parte | D36: Aplica a: | E36: Rol Asociado | F36: Responsable | G36: Ene | H36: Feb | I36: Mar | J36: Abr | K36: May | L36: Jun | M36: Jul | N36: Ago | O36: Sept | P36: Oct | Q36: Nov | R36: Dic | S36: Ejecutado | T36: Porcentaje Cumplimiento | U36: Asignado a: | V36: Evidencia
B37: Auditoria de Renovación / Calidad | D37: Todos los procesos | E37: Conformidad con los requisitos normativos | F37: ICONTEC | I37: X | T37: =IF(S37>COUNTIF(G37:R37,"X"),100%,IFERROR(S37/(COUNTIF(G37:R37,"X")),"")) -> 0 | U37: Externo
B38: Gestión de la Calidad de Aguas - IDEAM | D38: Proceso de Apoyo | E38: Conformidad con los requisitos normativos | F38: Profesional Externo | O38: X | T38: =IF(S38>COUNTIF(G38:R38,"X"),100%,IFERROR(S38/(COUNTIF(G38:R38,"X")),"")) -> 0 | U38: Externo
B39: CELAC - Centro de Idiomas | D39: Misional / Centro de Idiomas | E39: Evaluación y seguimiento | F39: CELAC | Q39: X | T39: =IF(S39>COUNTIF(G39:R39,"X"),100%,IFERROR(S39/(COUNTIF(G39:R39,"X")),"")) -> 0 | U39: Externo
B40: Contraloría Departamental | D40: Universidad de los Llanos | E40: Relación con entes externos de control | F40: Todos los procesos | M40: X | N40: X | O40: X | P40: X | Q40: X | R40: X | T40: =IF(S40>COUNTIF(G40:R40,"X"),100%,IFERROR(S40/(COUNTIF(G40:R40,"X")),"")) -> 0 | U40: Externo | V40: De acuerdo a la programación del Ente de Control | W40: De acuerdo a la programación del Ente de Control
B41: Contraloría General de la República | D41: Universidad de los Llanos | E41: Relación con entes externos de control | F41: Todos los procesos | G41: X | H41: X | I41: X | J41: X | K41: X | L41: X | T41: =IF(S41>COUNTIF(G41:R41,"X"),100%,IFERROR(S41/(COUNTIF(G41:R41,"X")),"")) -> 0 | U41: Externo | V41: De acuerdo a la programación del Ente de Control
B42: Informes de Ley (A cargo de Control Interno)
B43: Titulo del Informe | D43: Aplica a: | E43: Rol Asociado | F43: Responsable | G43: Ene | H43: Feb | I43: Mar | J43: Abr | K43: May | L43: Jun | M43: Jul | N43: Ago | O43: Sept | P43: Oct | Q43: Nov | R43: Dic | S43: Ejecutado | T43: Porcentaje Cumplimiento | U43: Asignado a: | V43: OBSERVACIÓN
...

Sheet Lista
B2: Roles de Control Interno
B3: Liderazgo estratégico
B4: Enfoque hacia la prevención
B5: Evaluación de la gestión del riesgo
B6: Evaluación y seguimiento
B7: Relación con entes externos de control
B8: Conformidad con los requisitos normativos
